BEGIN:VCALENDAR
VERSION:2.0
PRODID:-//hacksw/handcal//NONSGML v1.0//EN
BEGIN:VEVENT
SUMMARY:R2 - J18
UID:b3b15c6a-02c8-4d04-aea2-4ba74f76f578
DTSTART:20260426T130000Z
DTEND:20260426T150000Z
LOCATION:Localisation   
CATEGORIES:Sportif
STATUS:
URL;VALUE=URI:https://www.usblavozy.com/evenements/2026/04/26/r2-j18-2443042
END:VEVENT
END:VCALENDAR
