BEGIN:VCALENDAR
VERSION:2.0
PRODID:-//hacksw/handcal//NONSGML v1.0//EN
BEGIN:VEVENT
SUMMARY:R1 - J22
UID:88e94f02-e12a-4683-955e-ebc7b981cc25
DTSTART:20260425T150000Z
DTEND:20260425T170000Z
LOCATION:Localisation   
CATEGORIES:Sportif
STATUS:
URL;VALUE=URI:https://www.usblavozy.com/evenements/2026/04/25/r1-j22-2443041
END:VEVENT
END:VCALENDAR
