BEGIN:VCALENDAR
VERSION:2.0
PRODID:-//hacksw/handcal//NONSGML v1.0//EN
BEGIN:VEVENT
SUMMARY:La passe de 3
UID:ffd9a64c-29f9-47b1-ab72-7459f21ba0df
DTSTART:20260419T130000Z
DTEND:20260419T150000Z
LOCATION:Localisation   
CATEGORIES:Sportif
STATUS:
DESCRIPTION:<p style="text-align:justify;"><strong>L'equipe 3 s'est
 reprise ces dernieres semaines et aligne une troisieme victoire de
 rang en disposant de Monistrol ce dimanche. Bien entres dans le match
 mais repris sur un penalty, les carriers ont accelere pour remporter
 la partie notamment grace a un double de Melvin Bonnanfant. Un
 resultat qui les fait remonter a la 5e place avec une belle option
 sur le maintien.<br>
 Score final : 4-1</strong><br>
 <br>
 La victoire
 sur la pelouse de Vorey avait laisse entrevoir de belles choses. Et
 nos Verts ont reedite cette performance en mettant beaucoup de
 pression dans la premiere demi-heure. Malgre de belles incursions
 dans la defense de Monistrol, il va manquer de la precision pour
 reellement inquieter le portier visiteur.<br>
 <br>
 Il faudra attendre
 la 24e minute pour voir Sam Raveyre jouer rapidement une touche et
 envoyer Tino Campinho Lemos defier le gardien. Le meneur de jeu
 carrier remporte son face-a-face et ouvre logiquement le score.
 Malgre leur belle premiere periode, la bande a Alois Liabeuf
 n'arrivera pas a faire le break.<br>
 <br>
 <em><strong>Mi-temps :
 1-0</strong></em><br>
 <br>
 Les visiteurs vont revenir avec de
 meilleures intentions lors du second acte. Plus pressants, les
 Monistroliens vont profter d'une succession de petites erreurs pour
 pousser nos Verts a la faute et beneficier d'un penalty.
 Transforme.<br>
 <em><strong>57e : 1-1</strong></em><br>
 <br>
 Des
 lors, nos carriers vont se rebiffer et se projeter dans le camp
 adverse. Sur un joli jeu combine, Lucas Bonnet est trouve dans la
 surface et l'attaquant carrier ne se prive pas pour redonner
 l'avantage aux Verts, a peine 4 minutes apres
 l'egalisation.<br>
 <em><strong>61e : 2-1</strong></em><br>
 <br>
 Entre
 a l'heure de jeu, c'est Melvin Bonnanfant qui va definitivement
 mettre ses coequipiers a l'abri sur des recuperations hautes. Par
 deux fois, nos Verts agressent le porteur et contrent rapidement.
 Trouve deux fois dans l'intervalle, Melvin Bonnanfant convertit deux
 occasions en but pour porter le score a 4-1 et valider une victoire
 logique pour notre equipe 3.<br>
 <br>
 <strong>Score final :
 4-1</strong><br>
 Et la passe de 3 pour Hugo Pichot et ses partenaires
 qui se sont bien ressaisis apres leur defaite a La Seauve en mars
 dernier. Il faut continuer les efforts pour, comptablement, aller
 acquerir le maintien dans cette poule relevee de D2. Prochaine
 echeance, une nouvelle fois a domicile, ce dimanche face a la belle
 equipe de l'US2MR.</p>
 
 <p style="text-align:justify;"> </p>
URL;VALUE=URI:https://www.usblavozy.com/evenements/2026/04/19/la-passe-de-3-2438974
END:VEVENT
END:VCALENDAR
