BEGIN:VCALENDAR
VERSION:2.0
PRODID:-//hacksw/handcal//NONSGML v1.0//EN
BEGIN:VEVENT
SUMMARY:Quand on ne peut pas gagner...
UID:65668030-19cc-45ce-ad83-da8ba52100f2
DTSTART:20260418T160000Z
DTEND:20260418T180000Z
LOCATION:Localisation   
CATEGORIES:Sportif
STATUS:
DESCRIPTION:<p style="text-align:justify;"><strong>Il faut savoir ne
 pas perdre... L'adage s'est verifie sur la pelouse de la lanterne
 rouge Ceyrat ce samedi ou nos carriers auront eu de sacrees munitions
 pour scorer mais auront manque d'efficacite devant les buts
 puydomois. Il aura fallu malgre tout serrer les rangs en inferiorite
 numerique en fin de match pour conserver un point serieux, et qu'il
 faudra bonifier pour poursuivre l'objectif maintien !<br>
 Score final
 : 0-0</strong></p>
 
 <p style="text-align:justify;">C'etait presque le
 match de la derniere chance pour nos hotes ceyratois qui enchainaient
 les belles performances depuis quelques semaines. Venus chercher nos
 carriers hauts sur le terrain, les locaux vont pourtant
 s'exposer...</p>
 
 <p style="text-align:justify;"><strong>3 grosses
 situations...</strong><br>
 Des la 5e minute, Tanguy Flandin fait
 tourner la tete de la defense et oblige le portier a une belle
 parade. Le ballon lui revient dessus alors que le gardien est au sol
 mais il n'arrive pas a cadrer sa reprise et tire a cote du but...
 Blavozy demarre bien la partie offensivement et continue
 d'appuyer.</p>
 
 <p style="text-align:justify;">Tom Payzac arrive a
 frapper en se retournant rapidement dans la surface de reparation. Le
 gardien repousse et Thomas Andre surgit de derriere pour pousser le
 ballon dans le but... Hors-jeu, discutable.  Malgre tout, nos Verts
 poursuivent leur efforts et Tom Payzac, tout seul aux 6 metres manque
 sa reprise de la tete sur une belle remise dans la surface de
 reparation.</p>
 
 <p style="text-align:justify;">Ceyrat reagit avec un
 gros pressing et il faudra le retour d'Anthony Bonnefoy sur sa ligne
 pour empecher l'ouverture du score sur une belle frappe qui venait
 tromper Luca Vallery. Les deux equipes rentreront aux vestiaires dos
 a dos.</p>
 
 <p style="text-align:justify;"><em><strong>Mi-temps :
 0-0</strong></em></p>
 
 <p style="text-align:justify;"><strong>Se
 preparer pour le sprint final</strong><br>
 La seconde periode sera
 quasi conforme a la premiere avec nos Verts entreprenants et
 solidaires, qui ne vont peu conceder d'occasions a Ceyrat malgre une
 grosse debauche d'energie. Les carriers rentrent bien dans le second
 acte et les locaux ont tente de jouer les contres. Il faudra malgre
 tout un bon retour de Thiabut Lager sur un centre en retrait qui
 filait dans la surface de reparation verte...</p>
 
 <p
 style="text-align:justify;">Tanguy Flandin va encore solliciter le
 portier sur un bon decalage de Thomas Andre. Lorry Guilhot et Thibaut
 Lager vont aussi se montrer dangereux mais il manquera un soupcon de
 justesse pour terminer les actions. Alors que nos Verts sont sur une
 belle dynamique, Theo Pouille se verra renvoye aux vestiaires sur un
 second carton jaune... bien discutable lui aussi mais qui va
 completement aneantir la dynamique du match. Dylan Dolmazon forcera
 le portier a un nouvel arret et Ceyrat essaiera le tout pour le tout.
 Mais l'etat d'esprit des 10 carriers encore sur la pelouse sera
 irreprochable pour, a minima, accrocher ce point
 positif.<br>
 <br>
 <strong>Score final : 0-0</strong><br>
 Point
 positif car il permet a nos carriers de gagner 2 places au classement
 dans cette lutte terrible pour le maintien. Point positif car les
 valeurs affichees sont bien meilleures ces dernieres semaines et
 qu'il faudra perseverer dans cet etat d'esprit pour atteindre
 l'objectif. Il faut deja se preparer a un derby allechant ce samedi a
 17h avec la reception des reservistes Ponots, qui viennent d'etriller
 Aurillac en plantant la bagatelle de 8 buts.</p>
 
 <p
 style="text-align:justify;"><strong>Regional 1 - Journee
 21</strong><br>
 <span style="color:#16a085;"><em><strong>Le Puy Foot
 (b) 8</strong>-1 FC Aurillac<br>
 <strong>FC Chassieu-Decines
 2</strong>-0 US Monistrol<br>
 <strong>FC Riom 2</strong>-0 US Sucs et
 Lignon<br>
 <strong>FC Espaly 4-</strong>1 SA Thiers <br>
 FCO
 Firminy 2-<strong>3 Clermont Foot (b) </strong><br>
 Montlucon
 Football 1-1 GOAL FC (b)</em></span><br>
 <br>
 <em>Pour acceder au
 classement, <a
 href="https://laurafoot.fff.fr/competitions?tab=ranking&id=443528&phase=1&poule=1&type=ch"
 target="_blank" rel="noreferrer noopener">cliquez ici</a></em></p>
URL;VALUE=URI:https://www.usblavozy.com/evenements/2026/04/18/quand-on-ne-peut-pas-gagner-2438972
END:VEVENT
END:VCALENDAR
