BEGIN:VCALENDAR
VERSION:2.0
PRODID:-//hacksw/handcal//NONSGML v1.0//EN
BEGIN:VEVENT
SUMMARY:Continuer d'avancer !
UID:f8f81dbc-473d-4741-94b1-b223b27ddb83
DTSTART:20260412T130000Z
DTEND:20260412T150000Z
LOCATION:Localisation   
CATEGORIES:Sportif
STATUS:
DESCRIPTION:<p style="text-align:justify;"><strong>Une semaine apres
 la belle operation realisee a Aurillac, la venue de Montlucon
 s'annoncait comme un nouveau gros defi pour la bande d'Anthony
 Bonnefoy. Devant au score a la pause, nos Verts vont manquer leur
 entame et conceder logiquement l'egalisation de visiteurs venus sans
 complexes. Au final, un gros duel qui se terminera par un score de
 parite.<br>
 Score final : 1-1</strong><br>
 <br>
 Le retour a Panassac
 face a l'equipe en forme de Montlucon avait tout du piege apres le
 succes glane a Aurillac. Dans une premiere periode ouverte, les
 bourbonnais vont faire le jeu et nos carriers vont piquer en
 transition rapide.<br>
 <br>
 <strong>Tanguy trouve la
 voie</strong><br>
 L'enjeu va quand meme brider les debats de la
 premiere demi-heure entre deux formations qui se tiennent au
 classement. Bien que Montlucon affiche une maitrise du ballon plus
 poussee, nos Verts vont se procurer les premieres situations. Lorry
 Guilhot se retourne parfaitement dans la surface mais enleve un peu
 trop sa frappe qui passe au-dessus. </p>
 
 <p
 style="text-align:justify;">Les visiteurs repliquent et au bout du
 centre en retrait, l'attaquant bourbonnais trouve le poteau de Luca
 Vallery sur sa reprise. Une tete visiteuse fera aussi passer quelques
 sueurs froides sur un corner bien frappe depuis la gauche. Les
 espaces s'ouvrent et nos ailiers virevoltent. Sur une belle
 combinaison avec Alexis Beurlat, Tanguy Flandin elimine son defenseur
 mais ne parvient pas a conclure. Sur un nouveau debordement, Louis
 Falcon est trouve en retrait et centre au second poteau sur la tete
 de Tanguy qui, cette fois fait mouche d'une belle tete
 piquee.<br>
 <em><strong>40e : 1-0</strong></em></p>
 
 <p
 style="text-align:justify;">Dans cette rencontre serree, nos Verts
 vont faire la course en tete et rentrer aux vestiaires forts de cet
 avantage.<br>
 <br>
 <em><strong>Mi-temps:
 1-0</strong></em><br>
 <br>
 <strong>Regarder vers
 Ceyrat</strong><br>
 Le second acte va commencer avec un gros temps
 fort des visiteurs, revenus sur le terrain avec la ferme intention
 d'egaliser. Et malheureusement, nos carriers vont mettre un peu de
 temps a se remettre dedans. Resultat, des pertes de balles anodines,
 des coups de pied arretes betement concedes. Et voila Montlucon qui
 joue haut dans le camp vert. A force de reculer, nos carriers vont
 etre punis sur un centre au cordeau repris parfaitement au premier
 poteau d'un tete decroisee qui trompe Luca
 Vallery.<br>
 <em><strong>51e : 1-1</strong></em><br>
 <br>
 Des lors,
 le rythme va retomber malgre deux formations qui tenteront quand meme
 de faire le forcing, mais aussi peut-etre inconsciemment
 "satisfaites" de prendre un point. On ira malgre tout d'un camp a
 l'autre et Quentin Colomb se verra refuser le second but sur une
 charge sur le portier adverse. Tanguy Flandin aura la balle de match
 sur une belle deviation de Thomas Andre, l'attaquant carrier arrive a
 contourner le gardien mais ne parvient pas a rabattre suffisamment sa
 frappe dans le but vide.</p>
 
 <p
 style="text-align:justify;"><strong>Score final : 1-1</strong><br>
 Il
 faudra se contenter de ce point malgre tout important face a une
 equipe qui avait de vraies belles intentions offensives ce dimanche.
 Dommage de ne pas avoir su conserver l'avantage un peu plus longtemps
 dans cette seconde periode mais on retiendra quand meme le bel etat
 d'esprit de ces deux equipes dans leur lutte pour le maintien. Lutte
 qui se poursuit ce samedi sur la pelouse de Ceyrat avec, la encore,
 un gros combat a fournir. </p>
 
 <p
 style="text-align:justify;"><em>Photo : Lucas Jacquet pour l'Eveil de
 la Haute-Loire</em></p>
 
 <p
 style="text-align:justify;"><strong>Regional 1 - Journee
 20</strong><br>
 <span style="color:#16a085;"><em>FC Aurillac 1-1
 Ceyrat<br>
 US Monistrol 0-<strong>1 Le Puy Foot (b) </strong><br>
 US
 Sucs et Lignon 0-<strong>3</strong> <strong>FC
 Espaly</strong><br>
 SA Thiers 1-1 FC
 Chassieu-Decines<br>
 <strong>GOAL FC (b) 3</strong>-1 FCO
 Firminy<br>
 Clermont Foot (b) 3-3 FC
 Riom</em></span><br>
 <br>
 <em>Pour acceder au classement, <a
 href="https://laurafoot.fff.fr/competitions?tab=ranking&id=443528&phase=1&poule=1&type=ch"
 target="_blank" rel="noreferrer noopener">cliquez ici</a></em></p>
URL;VALUE=URI:https://www.usblavozy.com/evenements/2026/04/12/continuer-davancer-2438971
END:VEVENT
END:VCALENDAR
